BEGIN:VCALENDAR
VERSION:2.0
PRODID:-//wp-events-plugin.com//6.3//EN
TZID:America/New_York
X-WR-TIMEZONE:America/New_York
BEGIN:VEVENT
UID:92@afterschoolga.org
DTSTART;TZID=America/New_York;VALUE=DATE:20260420
DTEND;TZID=America/New_York;VALUE=DATE:20260425
DTSTAMP:20260318T161449Z
URL:https://www.afterschoolga.org/gsanevents/afterschool-professionals-app
 reciation-week-4/
SUMMARY:Afterschool Professionals Appreciation Week
DESCRIPTION:Afterschool Professionals Appreciation Week (APAW) is almost he
 re — taking place April 20–24\, 2026 — and the National AfterSchool 
 Association is once again leading this national effort to recognize\, appr
 eciate\, and advocate for the professionals who make out-of-school time pr
 ograms possible.\n\nAcross the country\, more than 850\,000 afterschool pr
 ofessionals support young people’s learning\, development\, and well-bei
 ng every day. They are mentors\, educators\, and trusted adults who create
  safe\, engaging environments where youth can thrive. APAW is our opportun
 ity as a field to come together and elevate their impact.\n\nJoin Us in Ce
 lebrating #HeartOfAfterschool\n\nWe invite you\, our partners\, affiliates
 \, and members\, to participate in APAW by sharing your appreciation and u
 plifting afterschool professionals across your networks.\n\nWhether you’
 re a program provider\, intermediary\, or partner organization\, your voic
 e helps amplify the message: afterschool professionals are essential\, and
  they deserve recognition and investment.\n\nHow to Get Involved\n\n 	Shar
 e stories\, photos\, and shoutouts on your social media channels\n 	Highli
 ght your staff\, colleagues\, and community partners\n 	Encourage youth an
 d families to express their appreciation\n 	Lift up the importance of work
 force support and job quality\n\nTo make participation easy\, NAA has crea
 ted a ready-to-use press and social media kit with sample posts\, messagin
 g\, and graphics.\n\nAccess the APAW Press &amp\; Social Media Kit\n\nToge
 ther\, we can ensure afterschool professionals feel seen\, valued\, and su
 pported\, not just during this week\, but all year long.\n\nLet’s celebr
 ate the #HeartOfAfterschool.
ATTACH;FMTTYPE=image/jpeg:https://www.afterschoolga.org/wp-content/uploads
 /2026/03/apaw.png
CATEGORIES:Community Engagement
END:VEVENT
BEGIN:VTIMEZONE
TZID:America/New_York
X-LIC-LOCATION:America/New_York
BEGIN:DAYLIGHT
DTSTART:20260308T030000
TZOFFSETFROM:-0500
TZOFFSETTO:-0400
TZNAME:EDT
END:DAYLIGHT
END:VTIMEZONE
END:VCALENDAR