BEGIN:VCALENDAR
VERSION:2.0
PRODID:-//wp-events-plugin.com//6.3//EN
TZID:America/New_York
X-WR-TIMEZONE:America/New_York
BEGIN:VEVENT
UID:97@afterschoolga.org
DTSTART;TZID=America/New_York:20260505T090000
DTEND;TZID=America/New_York:20260505T130000
DTSTAMP:20260416T180524Z
URL:https://www.afterschoolga.org/gsanevents/youth-work-methods-training-b
 uilding-community-cooperative-learning/
SUMMARY:Youth Work Methods Training: Building Community + Cooperative Learn
 ing
DESCRIPTION:The Georgia Statewide Afterschool Network (GSAN)\, in partnersh
 ip with the David P. Weikart Center for Youth Program Quality\, is pleased
  to offer a Youth Work Methods Training focused on Building Community a
 nd Cooperative Learning.\nThese sessions are designed to help programs cr
 eate engaging\, inclusive environments that support strong relationships a
 nd meaningful youth participation\, especially as programs preparing for 
 summer!\n\n\n 	Building Community focuses on creating a welcoming and inc
 lusive environment where youth feel safe\, connected\, and valued.\n 	Coop
 erative Learning provides strategies to actively engage youth through gro
 up-based activities that promote teamwork\, problem-solving\, and shared r
 esponsibility.\n\nThis high-energy\, interactive training will equip staff
  with practical strategies to foster positive group dynamics and increase 
 youth engagement\, making it especially impactful for programs preparing f
 or summer.\nParticipants will walk away with ready-to-use strategies to st
 rengthen program culture\, engagement\, and collaboration.\nRegister Here:
  Click Here: Youth Work Methods on May 5th in Columbus\, GA
ATTACH;FMTTYPE=image/jpeg:https://www.afterschoolga.org/wp-content/uploads
 /2026/04/Forum-Logo-e1711441426841.png
CATEGORIES:Professional Development
LOCATION:Comer Recreation Center\, 107 41st St\, Columbus\, GA \, 31904\, U
 nited States
GEO:32.502665;-84.990955
X-APPLE-STRUCTURED-LOCATION;VALUE=URI;X-ADDRESS=107 41st St\, Columbus\, GA
  \, 31904\, United States;X-APPLE-RADIUS=100;X-TITLE=Comer Recreation Cent
 er:geo:32.502665,-84.990955
END:VEVENT
BEGIN:VTIMEZONE
TZID:America/New_York
X-LIC-LOCATION:America/New_York
BEGIN:DAYLIGHT
DTSTART:20260308T030000
TZOFFSETFROM:-0500
TZOFFSETTO:-0400
TZNAME:EDT
END:DAYLIGHT
END:VTIMEZONE
END:VCALENDAR