BEGIN:VCALENDAR
VERSION:2.0
PRODID:-//wp-events-plugin.com//6.3//EN
TZID:America/New_York
X-WR-TIMEZONE:America/New_York
BEGIN:VEVENT
UID:98@afterschoolga.org
DTSTART;TZID=America/New_York:20260513T090000
DTEND;TZID=America/New_York:20260513T130000
DTSTAMP:20260416T180839Z
URL:https://www.afterschoolga.org/gsanevents/youth-work-methods-training-y
 outh-voice-introduction-to-active-participatory-approach/
SUMMARY:Youth Work Methods Training: Youth Voice + Introduction to Active P
 articipatory Approach
DESCRIPTION:Close out the series with a training focused on youth engageme
 nt and empowerment. The Georgia Statewide Afterschool Network (GSAN)\, in 
 partnership with the David P. Weikart Center for Youth Program Quality\, i
 s offering a Youth Work Methods Training focused on Youth Voice and the
  Introduction to the Active Participatory Approach (APA).\nThis training 
 is designed to deepen staff understanding of how to meaningfully engage yo
 uth by centering their voice and participation in program design and deliv
 ery.\nParticipants will explore how to:\n\n\n 	Create opportunities for yo
 uth to share ideas\, make choices\, and take ownership\n 	Apply the Active
  Participatory Approach as a framework for engaging youth\n 	Foster enviro
 nments that support youth leadership and voice\n\nThis session is ideal fo
 r programs looking to move beyond basic engagement and strengthen youth-ce
 ntered practices that promote leadership\, autonomy\, and meaningful parti
 cipation.\nRegister Here: Click Here: Youth Methods on May 13th in Dalton
 \, GA
ATTACH;FMTTYPE=image/jpeg:https://www.afterschoolga.org/wp-content/uploads
 /2026/04/Forum-Logo-e1711441426841.png
CATEGORIES:Professional Development
LOCATION:Boys & Girls Clubs of North Georgia: Dalton\, 1013 Underwood St\, 
 Dalton\, GA\, 30721\, United States
GEO:34.780195;-84.951857
X-APPLE-STRUCTURED-LOCATION;VALUE=URI;X-ADDRESS=1013 Underwood St\, Dalton\
 , GA\, 30721\, United States;X-APPLE-RADIUS=100;X-TITLE=Boys & Girls Clubs
  of North Georgia: Dalton:geo:34.780195,-84.951857
END:VEVENT
BEGIN:VTIMEZONE
TZID:America/New_York
X-LIC-LOCATION:America/New_York
BEGIN:DAYLIGHT
DTSTART:20260308T030000
TZOFFSETFROM:-0500
TZOFFSETTO:-0400
TZNAME:EDT
END:DAYLIGHT
END:VTIMEZONE
END:VCALENDAR